Workbook
Name Responses: Mailings!$A$3:$D$28

Sheet Mailings
A1: Mailings by City and Department
A3: City | B3: Department | C3: # Mailed | D3: # Responses
A4: Ashland City | B4: Lawn & Maintenance | C4: 1690 | D4: 210
A5: Belle Meade | B5: Patio & Furniture | C5: 2170 | D5: 435
A6: Brentwood | B6: Lawn & Maintenance | C6: 938 | D6: 125
A7: Burns | B7: Patio & Furniture | C7: 1475 | D7: 413
A8: Carthage | B8: Lawn & Maintenance | C8: 1225 | D8: 343
A9: Centerville | B9: Landscape Design | C9: 1260 | D9: 353
A10: Charlotte | B10: Landscape Design | C10: 2235 | D10: 618
A11: Coopertown | B11: Lawn & Maintenance | C11: 2380 | D11: 300
A12: Cross Plains | B12: Patio & Furniture | C12: 2545 | D12: 550
A13: Dickson | B13: Patio & Furniture | C13: 1470 | D13: 322
A14: Fairview | B14: Patio & Furniture | C14: 2655 | D14: 743
A15: Forest Hills | B15: Landscape Design | C15: 2915 | D15: 375
... A28: Springfield | B28: Landscape Design | C28: 1610 | D28: 450

Sheet Mailings Stats
A3: Third Quarter Mailings
A6: Department/Group | B6: Total Sent | C6: Total Responses | D6: Response Rate
A7: Landscape Design | B7: =DSUM(Responses,3,Criteria!$B$1:$B$2) -> 11555 | C7: =DSUM(Responses,4,Criteria!$B$1:$B$2) -> 2824 | D7: =IF(C7/B7>=20%,$C$15,IF(C7/B7>=15%,$C$16,IF(C7/B7>=10%,$C$17,IF(C7/B7<10%,C18,0)))) -> Excellent
A8: Lawn & Maintenance | B8: =DSUM(Responses,3,Criteria!$B$7:$B$8) -> 22078 | C8: =DSUM(Responses,4,Criteria!$B$7:$B$8) -> 2847 | D8: =IF(C8/B8>=20%,$C$15,IF(C8/B8>=15%,$C$16,IF(C8/B8>=10%,$C$17,IF(C8/B8<10%,C19,0)))) -> Good
A9: Patio & Furniture | B9: =DSUM(Responses,3,Criteria!$B$4:$B$5) -> 14790 | C9: =DSUM(Responses,4,Criteria!$B$4:$B$5) -> 3591 | D9: =IF(C9/B9>=20%,$C$15,IF(C9/B9>=15%,$C$16,IF(C9/B9>=10%,$C$17,IF(C9/B9<10%,C20,0)))) -> Excellent
A10: Total | B10: =SUM(B7:B9) -> 48423 | C10: =SUM(C7:C9) -> 9262 | D10: =IF(C10/B10>=20%,$C$15,IF(C10/B10>=15%,$C$16,IF(C10/B10>=10%,$C$17,IF(C10/B10<10%,C21,0)))) -> Very Good
B14: Response Rate Determination
B15: 20% and above | C15: Excellent
B16: 15% and above | C16: Very Good
B17: 10% and above | C17: Good
B18: Below 10% | C18: Average
B20: City | C20: # of Responses
B21: Smyrna | C21: =INDEX(Mailings!A3:D28,MATCH('Mailings Stats'!B21,Mailings!A3:A28,0),MATCH(Mailings!D3,Mailings!A3:D3,0)) -> 300

Sheet Criteria
A1: City | B1: Department | C1: # Mailed | D1: # Responses | E1: Response Rate
B2: lan*
A4: City | B4: Department | C4: # Mailed | D4: # Responses | E4: Response Rate
B5: pat*
A7: City | B7: Department | C7: # Mailed | D7: # Responses | E7: Response Rate
B8: law*

Sheet Employee Insurance
A1: Classic Gardens and Landscape (CGL)
A2: Dependent and Claim Information
A3: ID # | B3: Last Name | C3: First Name | D3: Department | E3: City | F3: # of Dependents | G3: # of Claims
A4: 17 | B4: Lopez | C4: Anita | D4: Lawn & Maintenance | E4: Brentwood | F4: 4 | G4: 3
A5: 5 | B5: Meandro | C5: Juan | D5: Patio & Furniture | E5: Springfield | F5: 5 | G5: 2
A6: 8 | B6: Easom | C6: Nassar | D6: Lawn & Maintenance | E6: Forest Hills | F6: 1 | G6: 1
A7: 11 | B7: Calvert | C7: Maria | D7: Landscape Design | E7: Gallatin | F7: 2 | G7: 0
A8: 14 | B8: Johnson | C8: Burton | D8: Patio & Furniture | E8: Forest Hills | F8: 3 | G8: 4
A9: 16 | B9: Pawlowski | C9: Jerry | D9: Landscape Design | E9: Brentwood | F9: 4 | G9: 3
A10: 21 | B10: Svenson | C10: Imre | D10: Patio & Furniture | E10: Brentwood | F10: 3 | G10: 1
A11: 3 | B11: Ladewig | C11: Lisle | D11: Lawn & Maintenance | E11: Forest Hills | F11: 5 | G11: 1
A12: 4 | B12: McDonald | C12: Alphonse | D12: Human Resources | E12: Brentwood | F12: 1 | G12: 1
A13: 12 | B13: Alverez | C13: Beryl | D13: Human Resources | E13: Springfield | F13: 2 | G13: 0
A14: 19 | B14: Yager | C14: Bobbi | D14: Patio & Furniture | E14: Brentwood | F14: 3 | G14: 2
A15: 20 | B15: Hughes | C15: Delores | D15: Human Resources | E15: Gallatin | F15: 4 | G15: 2
... A23: 1 | B23: Conrad | C23: Anna | D23: Lawn & Maintenance | E23: Brentwood | F23: 1 | G23: 2
C25: # of Dependents, Brentwood, Landscape | E25: =SUMIFS($F$4:$F$23,$E$4:$E$23,Bre,$D$4:$D$23,Lan) -> 0
C26: # of Dependents, Springfield, Human Resources | E26: =SUMIFS($F$4:$F$23,$E$4:$E$23,Spr,$D$4:$D$23,Hum) -> 0
C27: # of Claims, Forest Hills, Patio | E27: =SUMIFS($F$4:$F$23,$E$4:$E$23,For,$D$4:$D$23,Pat) -> 0
C28: # of Claims, Gallatin, Lawn & Maintenance | E28: =SUMIFS($F$4:$F$23,$E$4:$E$23,Gal,$D$4:$D$23,Law) -> 0

Sheet Birth Dates
A1: Classic Gardens and Landscape (CGL)
A2: Employee Birth Dates
A3: ID # | B3: Last Name | C3: First Name | D3: Date
A4: 1 | B4: Conrad | C4: Anna | D4: 26342 | G4: 13 Feb 1972 | H4: =DATEVALUE(G4) -> 26342
A5: 2 | B5: Stewart | C5: Maureen | D5: 30749 | G5: 08 Mar 1984 | H5: =DATEVALUE(G5) -> 30749
A6: 3 | B6: Ladewig | C6: Lisle | D6: 28618 | G6: 08 May 1978 | H6: =DATEVALUE(G6) -> 28618
A7: 4 | B7: McDonald | C7: Alphonse | D7: 29834 | G7: 05 Sep 1981 | H7: =DATEVALUE(G7) -> 29834
A8: 5 | B8: Meandro | C8: Juan | D8: 31333 | G8: 13 Oct 1985 | H8: =DATEVALUE(G8) -> 31333
A9: 6 | B9: Jonas | C9: Keiko | D9: 32980 | G9: 17 Apr 1990 | H9: =DATEVALUE(G9) -> 32980
A10: 7 | B10: Henry | C10: Conrad | D10: 33633 | G10: 30 Jan 1992 | H10: =DATEVALUE(G10) -> 33633
A11: 8 | B11: Easom | C11: Nassar | D11: 33437 | G11: 18 Jul 1991 | H11: =DATEVALUE(G11) -> 33437
A12: 9 | B12: Ohlberg | C12: Sarah | D12: 32035 | G12: 15 Sep 1987 | H12: =DATEVALUE(G12) -> 32035
A13: 10 | B13: Artagnan | C13: George | D13: 32223 | G13: 21 Mar 1988 | H13: =DATEVALUE(G13) -> 32223
A14: 11 | B14: Calvert | C14: Maria | D14: 27927 | G14: 16 Jun 1976 | H14: =DATEVALUE(G14) -> 27927
A15: 12 | B15: Alverez | C15: Beryl | D15: 34659 | G15: 21 Nov 1994 | H15: =DATEVALUE(G15) -> 34659
... A23: 21 | B23: Svenson | C23: Imre | D23: 27453 | G23: 28 Feb 1975 | H23: =DATEVALUE(G23) -> 27453
